{
 "currentVersion": 10.71,
 "serviceDescription": "Oklahoma Department of Transportation County Inventory maps for the inventory year 1936.",
 "name": "CountyInventory/CountyMaps_1936",
 "description": "Oklahoma Department of Transportation County Inventory maps for the inventory year 1936.",
 "extent": {
  "xmin": -1.1469800231116489E7,
  "ymin": 3970977.465838525,
  "xmax": -1.0501315650461277E7,
  "ymax": 4453362.677815168,
  "spatialReference": {
   "wkid": 102100,
   "latestWkid": 3857
  }
 },
 "initialExtent": {
  "xmin": -1.1469800231116489E7,
  "ymin": 3970977.465838525,
  "xmax": -1.0501315650461277E7,
  "ymax": 4453362.677815168,
  "spatialReference": {
   "wkid": 102100,
   "latestWkid": 3857
  }
 },
 "fullExtent": {
  "xmin": -1.1469800231116489E7,
  "ymin": 3970977.465838525,
  "xmax": -1.0501315650461277E7,
  "ymax": 4453362.677815168,
  "spatialReference": {
   "wkid": 102100,
   "latestWkid": 3857
  }
 },
 "pixelSizeX": 4.579308896000001,
 "pixelSizeY": 4.579308896000001,
 "bandCount": 1,
 "pixelType": "S8",
 "minPixelSize": 0,
 "maxPixelSize": 0,
 "copyrightText": "ODOT GIS Mangement Branch",
 "serviceDataType": "esriImageServiceDataTypeGeneric",
 "minValues": [
  0
 ],
 "maxValues": [
  1
 ],
 "meanValues": [
  0.9210610955768367
 ],
 "stdvValues": [
  0.26964357795048677
 ],
 "objectIdField": "OBJECTID",
 "fields": [
  {
   "name": "OBJECTID",
   "type": "esriFieldTypeOID",
   "alias": "OBJECTID",
   "domain": null
  },
  {
   "name": "NAME",
   "type": "esriFieldTypeString",
   "alias": "NAME",
   "domain": null,
   "length": 200
  },
  {
   "name": "MINPS",
   "type": "esriFieldTypeDouble",
   "alias": "MINPS",
   "domain": null
  },
  {
   "name": "MAXPS",
   "type": "esriFieldTypeDouble",
   "alias": "MAXPS",
   "domain": null
  },
  {
   "name": "LOWPS",
   "type": "esriFieldTypeDouble",
   "alias": "LOWPS",
   "domain": null
  },
  {
   "name": "HIGHPS",
   "type": "esriFieldTypeDouble",
   "alias": "HIGHPS",
   "domain": null
  },
  {
   "name": "CATEGORY",
   "type": "esriFieldTypeInteger",
   "alias": "CATEGORY",
   "domain": {
    "type": "codedValue",
    "name": "MosaicCatalogItemCategoryDomain",
    "description": "Catalog item categories.",
    "codedValues": [
     {
      "name": "Unknown",
      "code": 0
     },
     {
      "name": "Primary",
      "code": 1
     },
     {
      "name": "Overview",
      "code": 2
     },
     {
      "name": "Unprocessed Overview",
      "code": 3
     },
     {
      "name": "Partial Overview",
      "code": 4
     },
     {
      "name": "Uploaded",
      "code": 253
     },
     {
      "name": "Incomplete",
      "code": 254
     },
     {
      "name": "Custom",
      "code": 255
     }
    ],
    "mergePolicy": "esriMPTDefaultValue",
    "splitPolicy": "esriSPTDefaultValue"
   }
  },
  {
   "name": "TAG",
   "type": "esriFieldTypeString",
   "alias": "TAG",
   "domain": null,
   "length": 100
  },
  {
   "name": "GROUPNAME",
   "type": "esriFieldTypeString",
   "alias": "GROUPNAME",
   "domain": null,
   "length": 100
  },
  {
   "name": "PRODUCTNAME",
   "type": "esriFieldTypeString",
   "alias": "PRODUCTNAME",
   "domain": null,
   "length": 100
  },
  {
   "name": "CENTERX",
   "type": "esriFieldTypeDouble",
   "alias": "CENTERX",
   "domain": null
  },
  {
   "name": "CENTERY",
   "type": "esriFieldTypeDouble",
   "alias": "CENTERY",
   "domain": null
  },
  {
   "name": "ZORDER",
   "type": "esriFieldTypeInteger",
   "alias": "ZORDER",
   "domain": null
  },
  {
   "name": "SHAPE",
   "type": "esriFieldTypeGeometry",
   "alias": "SHAPE",
   "domain": null
  },
  {
   "name": "THUMBNAIL",
   "type": "esriFieldTypeBlob",
   "alias": "THUMBNAIL",
   "domain": null
  },
  {
   "name": "SHAPE.AREA",
   "type": "esriFieldTypeDouble",
   "alias": "SHAPE.AREA",
   "domain": null
  },
  {
   "name": "SHAPE.LEN",
   "type": "esriFieldTypeDouble",
   "alias": "SHAPE.LEN",
   "domain": null
  }
 ],
 "capabilities": "Catalog,Mensuration,Image,Metadata",
 "defaultMosaicMethod": "Northwest",
 "allowedMosaicMethods": "NorthWest,Center,LockRaster,ByAttribute,Nadir,Viewpoint,Seamline,None",
 "sortField": "",
 "sortValue": null,
 "mosaicOperator": "First",
 "maxDownloadSizeLimit": 2048,
 "defaultCompressionQuality": 75,
 "defaultResamplingMethod": "Bilinear",
 "maxImageHeight": 4100,
 "maxImageWidth": 15000,
 "maxRecordCount": 1000,
 "maxDownloadImageCount": 20,
 "maxMosaicImageCount": 20,
 "allowRasterFunction": true,
 "rasterFunctionInfos": [
  {
   "name": "CountyMaps_1936",
   "description": "A raster function template.",
   "help": ""
  },
  {
   "name": "None",
   "description": "A No-Op Function.",
   "help": ""
  },
  {
   "name": "CountyMaps_1936",
   "description": "A raster function template.",
   "help": ""
  },
  {
   "name": "None",
   "description": "A No-Op Function.",
   "help": ""
  }
 ],
 "rasterTypeInfos": [
  {
   "name": "Raster Dataset",
   "description": "Supports all ArcGIS Raster Datasets",
   "help": ""
  }
 ],
 "mensurationCapabilities": "Basic",
 "hasHistograms": true,
 "hasColormap": false,
 "hasRasterAttributeTable": false,
 "minScale": 5.91657527591555E8,
 "maxScale": 18055.954822,
 "exportTilesAllowed": false,
 "hasMultidimensions": false,
 "supportsStatistics": true,
 "supportsAdvancedQueries": true,
 "editFieldsInfo": null,
 "ownershipBasedAccessControlForRasters": null,
 "allowComputeTiePoints": false,
 "useStandardizedQueries": true,
 "advancedQueryCapabilities": {
  "useStandardizedQueries": true,
  "supportsStatistics": true,
  "supportsOrderBy": true,
  "supportsDistinct": true,
  "supportsPagination": true
 },
 "spatialReference": {
  "wkid": 102100,
  "latestWkid": 3857
 }
}
